BEGIN:VCALENDAR
VERSION:2.0
PRODID:-//wrc.cz - ECPv5.3.1.1//NONSGML v1.0//EN
CALSCALE:GREGORIAN
METHOD:PUBLISH
X-WR-CALNAME:wrc.cz
X-ORIGINAL-URL:https://www.wrc.cz
X-WR-CALDESC:Akce na wrc.cz
BEGIN:VTIMEZONE
TZID:Europe/Prague
BEGIN:DAYLIGHT
TZOFFSETFROM:+0100
TZOFFSETTO:+0200
TZNAME:CEST
DTSTART:20230326T010000
END:DAYLIGHT
BEGIN:STANDARD
TZOFFSETFROM:+0200
TZOFFSETTO:+0100
TZNAME:CET
DTSTART:20231029T010000
END:STANDARD
END:VTIMEZONE
BEGIN:VEVENT
DTSTART;TZID=Europe/Prague:20230429T080000
DTEND;TZID=Europe/Prague:20230430T200000
DTSTAMP:20260423T234112
CREATED:20230317T183040Z
LAST-MODIFIED:20230517T221233Z
UID:4080-1682755200-1682884800@www.wrc.cz
SUMMARY:Smart Ranch Kozlovice - WRC + SAWRR - B + hobby + licence
DESCRIPTION:Při těchto závodech sa pojedou zároveň třídy WRC a SAWRR. \nPropozice ke stažení : \nPřihlášky ( viz dokumenty – závody ) můžete také zasílat na adresu: shows.smartranch@gmail.com \nPropozice-Kozlovice I \nCScup-propozice Kozlovice \nLicence Kozlovice \nHobbyCup Kozlovice I \nHarmonogram-Kozlovice \nÚlohy ke stažení: \nPatterny-Kozlovice I \nÚlohy na licence ke stažení: \n Licence jezdce Horsemanship \nLicence Showmanship at halter \nTesty na licence ke stažení: \nTest A  \nTest B  \nTest C \n 
URL:https://www.wrc.cz/event/smart-ranch-kozlovice-b/
LOCATION:Smart ranch – Kozlovice\, Kozlovice 928\, Kozlovice\, 73947\, Česká republika
ORGANIZER;CN="Paint%20Western%20Riding%20Club":MAILTO:shows.smartranch@gmail.com
END:VEVENT
END:VCALENDAR