BEGIN:VCALENDAR
VERSION:2.0
PRODID:-//wrc.cz - ECPv5.3.1.1//NONSGML v1.0//EN
CALSCALE:GREGORIAN
METHOD:PUBLISH
X-WR-CALNAME:wrc.cz
X-ORIGINAL-URL:https://www.wrc.cz
X-WR-CALDESC:Akce na wrc.cz
BEGIN:VTIMEZONE
TZID:Europe/Prague
BEGIN:DAYLIGHT
TZOFFSETFROM:+0100
TZOFFSETTO:+0200
TZNAME:CEST
DTSTART:20250330T010000
END:DAYLIGHT
BEGIN:STANDARD
TZOFFSETFROM:+0200
TZOFFSETTO:+0100
TZNAME:CET
DTSTART:20251026T010000
END:STANDARD
END:VTIMEZONE
BEGIN:VEVENT
DTSTART;TZID=Europe/Prague:20250802T080000
DTEND;TZID=Europe/Prague:20250803T170000
DTSTAMP:20260424T112723
CREATED:20250110T115541Z
LAST-MODIFIED:20250821T150505Z
UID:5604-1754121600-1754240400@www.wrc.cz
SUMMARY:Smart Ranch Kozlovice - B + WRC HOBBY
DESCRIPTION:  \n\n			\n				\n			\n			\n				\n			\n		\n\nVýsledky WRC HOBBY  \nVýsledky Pidilidi \nScoresheety Kozlovice III \n2025-2\,3-08 Smart Ranch Kozlovice201 Amatér Reining All AgesJezdec (Kůň)PořadíBodyKarolína Karásková (Dunnit With The Luis )171.5Brenda Lesniczáková (SK Conquistador Gun)269.5Viktorie Sviežená (SK Smart N Whiz)369Marcela Martinková (Kam November Rain)467.5Elvíra Káňová (Maja Doc Lynx)557.5Jezdec (Kůň)PořadíBodyJan Glaser (Pocos Magician) D 0211 Amatér Western Pleasure All AgesJezdec (Kůň)PořadíBodyRomana Hrdinová (Invitation To Dreams)12Soňa Vybíralová (Brablíková) (CHAMLIE NIMBLE FOREVER)21 221 Amatér Trail All AgesJezdec (Kůň)PořadíBodyHelena Rokytová (Quinnie Bee Smart )170Romana Hrdinová (JGB Hope)267.5Romana Hrdinová (Invitation To Dreams)365.5Jakub Kautský (SK Chic Sparkness )464.5 222 Amatér In Hand trailJezdec (Kůň)PořadíBodyNikol Hudziaková (Original Fantastic)169Marek Nekola (Specialrustysquirrel)268.5Markéta Bílová (RR Hoos Da Cowgirl)367.5Kateřina Štěpánová (Charlie Hollywood)465Jezdec (Kůň)PořadíBodyKarel Hurtík (Charles Mercedes) D 0231 Amatér Western Horsemanship All AgesJezdec (Kůň)PořadíBodyKateřina Čejková (Moka Martini)184Viktorie Sviežená (SK Smart N Whiz)283Romana Hrdinová (Invitation To Dreams)380Helena Rokytová (Quinnie Bee Smart )476.5Soňa Vybíralová (Brablíková) (CHAMLIE NIMBLE FOREVER)574.5Kateřina Štěpánová (Charlie Hollywood)670Jana Hanzlíčková (Sensation Choco Chip)767Zuzana Hurtíková (LDF Guns Hidalgo)859.5 238 Amatér Showmanship at Halter All AgesJezdec (Kůň)PořadíBodyKateřina Čejková (Moka Martini)185.5Marie Musilová (SK Smart Whizkey)276.5Soňa Vybíralová (Brablíková) (CHAMLIE NIMBLE FOREVER)375.5Markéta Bílová (RR Hoos Da Cowgirl)469Zuzana Hurtíková (LDF Guns Hidalgo)541.5Jezdec (Kůň)PořadíBodyKateřina Štěpánová (Charlie Hollywood) D 0245 Amatér Ranch Rail PleasureJezdec (Kůň)PořadíBodyKateřina Čejková (Twelve Twenty Whiz)13Ema Zajacová (Silver Freckle Harry)22Michaela Marvanová (Storm N Shy)31 246 Amatér Ranch RidingJezdec (Kůň)PořadíBodyKateřina Čejková (Twelve Twenty Whiz)176Brenda Lesniczáková (SK Smart Peponita)274.5Ema Zajacová (Silver Freckle Harry)372Michaela Marvanová (Storm N Shy)471Jakub Kautský (SK Chic Sparkness )570.5Jan Glaser (Pocos Magician)666.5 301 Mládež Reining All AgesJezdec (Kůň)PořadíBodyEma Němcová (SK Smart Memory)169Adriana  Machelová (Gunfingnating Smurf)269 311 Mládež Western Pleasure All AgesJezdec (Kůň)PořadíBodyKateřina Brunová (Hotrods Magnum)15Monika Chvátalová (SK Smart Sayo)24Lucie Hartmannová (AP Smart Top Dunnit)33Karolína Krejčí (Shiny Lovely Zip)42Monika Musilová (SK Smart Whizkey)51 321 Mládež Trail All AgesJezdec (Kůň)PořadíBodyKateřina Brunová (Menny Jack)172.5Karolína Krejčí (Smart Silver Glo)265.5Monika Chvátalová (SK Smart Sayo)364Kateřina Brunová (Hotrods Magnum)461.5Natálie  Smutná (Shiny Lovely Zip)561 328 Mládež Ranch Trail All AgesJezdec (Kůň)PořadíBodyVanda Černá (Lara)171Natálie  Smutná (Shiny Lovely Zip)271Adriana  Bravencová (Shining Mickey)370.5Lucie Odvárková (Smart Silver Glo)468Nikola Bajnoková (Worthy Hollywood)564Karolína  Hurtíková (SK Smart Iris )662 331 Mládež Western Horsemanship All AgesJezdec (Kůň)PořadíBodyKateřina Brunová (Menny Jack)184Monika Chvátalová (SK Smart Sayo)276Lucie Hartmannová (AP Smart Top Dunnit)375Karolína Krejčí (Shiny Lovely Zip)473 338 Mládež Showmanship at Halter All AgesJezdec (Kůň)PořadíBodyKateřina Brunová (Menny Jack)188.5Valérie  Šimanská (Jimmy Stormy Runner)288Natálie  Smutná (Shiny Lovely Zip)384Kateřina Brunová (Hotrods Magnum)482Monika Chvátalová (SK Smart Sayo)580Monika Musilová (SK Smart Whizkey)675.5Monika Chvátalová (SK Nu Chex)771 345 Mládež Ranch Rail PleasureJezdec (Kůň)PořadíBodyValérie  Šimanská (Jimmy Stormy Runner)17Nikola Bajnoková (Worthy Hollywood)26Adriana  Bravencová (Shining Mickey)35Karolína Krejčí (Shiny Lovely Zip)44Karolína  Hurtíková (SK Smart Iris )53Ema Němcová (SK Smart Memory)62Kateřina Brunová (Steppin Little Jac )71 346 Mládež Ranch Riding All AgesJezdec (Kůň)PořadíBodyValérie  Šimanská (Jimmy Stormy Runner)177Adriana  Bravencová (Shining Mickey)275.5Nikola Bajnoková (Worthy Hollywood)374Vanda Černá (Lara)472Ema Němcová (SK Smart Memory)571.5Karolína Krejčí (Shiny Lovely Zip)671Kateřina Brunová (Steppin Little Jac )763 352 Mládež Hunter Under Saddle All AgesJezdec (Kůň)PořadíBodyKateřina Brunová (Hotrods Magnum)13Nikola Bajnoková (Worthy Hollywood)22Lucie Hartmannová (AP Smart Top Dunnit)31 353 Mládež Hunt Seat Equitation All AgesJezdec (Kůň)PořadíBodyKateřina Brunová (Hotrods Magnum)165Lucie Hartmannová (AP Smart Top Dunnit)264.5Jezdec (Kůň)PořadíBodyNikola Bajnoková (Worthy Hollywood) D 0401J Otevřená Reining JuniorJezdec (Kůň)PořadíBodyKlára Šalková (SK Angels Gun )169.5Klára Šalková (SK Smart Little Gina )268.5 401S Otevřená Reining SeniorJezdec (Kůň)PořadíBodyKarolína Karásková (Dunnit With The Luis )172Brenda Lesniczáková (SK Smart Peponita)271.5Klára Řeháčková (Gunfingnating Smurf)371Antonín Solanský (Snow Gun RDS)470.5Ema Němcová (SK Smart Memory)570Marcela Martinková (Kam November Rain)668Jan Glaser (Pocos Magician)767.5Elvíra Káňová (Maja Doc Lynx)860 411J Otevřená Western Pleasure JuniorJezdec (Kůň)PořadíBodyMonika Jančíková Brunová (Specialdaddyprincess)13Kateřina Brunová (Hotrods Magnum)22Soňa Vybíralová (Brablíková) (CHAMLIE NIMBLE FOREVER)31 411S Otevřená Western Pleasure SeniorJezdec (Kůň)PořadíBodyRomana Hrdinová (Invitation To Dreams)11 421J Otevřená Trail JuniorJezdec (Kůň)PořadíBodyMonika Jančíková Brunová (Specialdaddyprincess)169.5Jakub Kautský (SK Chic Sparkness )262.5Kateřina Brunová (Hotrods Magnum)362 421S Otevřená Trail SeniorJezdec (Kůň)PořadíBodyRomana Hrdinová (JGB Hope)174Romana Hrdinová (Invitation To Dreams)269.5Jezdec (Kůň)PořadíBodyMonika Jančíková Brunová (Moka Martini) D 0422 Otevřená In Hand trailJezdec (Kůň)PořadíBodyMarek Nekola (Specialrustysquirrel)170.5Markéta Bílová (RR Hoos Da Cowgirl)266Renata Gabrielová (KG Original Stardust)365.5Nikol Hudziaková (Original Fantastic)463.5Karel Hurtík (Charles Mercedes)560 428 Otevřená Ranch Trail All AgesJezdec (Kůň)PořadíBodyRomana Hrdinová (JGB Hope)172Jakub Kautský (SK Chic Sparkness )271Natálie  Smutná (Shiny Lovely Zip)370.5Vanda Černá (Lara)470 431 Otevřená Western HorsemanshipJezdec (Kůň)PořadíBodyKateřina Brunová (Menny Jack)186.5Kateřina Čejková (Moka Martini)284Romana Hrdinová (Invitation To Dreams)381Jana Hanzlíčková (Sensation Choco Chip)466 438 Otevřená Showmanship at Halter All AgesJezdec (Kůň)PořadíBodyValérie  Šimanská (Jimmy Stormy Runner)188Kateřina Čejková (Moka Martini)283.5Natálie  Smutná (Shiny Lovely Zip)383Markéta Bílová (RR Hoos Da Cowgirl)471Jezdec (Kůň)PořadíBodyKateřina Brunová (Hotrods Magnum) D 0441 Otevřená Western Riding All AgesJezdec (Kůň)PořadíBodyRomana Hrdinová (JGB Hope)169.5Monika Jančíková Brunová (Moka Martini)261 445 Otevřená Ranch Rail PleasureJezdec (Kůň)PořadíBodyEma Zajacová (Silver Freckle Harry)16Kateřina Čejková (Twelve Twenty Whiz)25Nikola Bajnoková (Worthy Hollywood)34Valérie  Šimanská (Jimmy Stormy Runner)43Adriana  Bravencová (Shining Mickey)52Kateřina Brunová (Steppin Little Jac )61 446 Otevřená Ranch Riding All AgesJezdec (Kůň)PořadíBodyKateřina Čejková (Twelve Twenty Whiz)176.5Adriana  Bravencová (Shining Mickey)276Brenda Lesniczáková (SK Smart Peponita)374.5Ema Zajacová (Silver Freckle Harry)474Michaela Marvanová (Storm N Shy)571.5Jakub Kautský (SK Chic Sparkness )671Valérie  Šimanská (Jimmy Stormy Runner)772.5Jan Glaser (Pocos Magician)865Kateřina Brunová (Steppin Little Jac )962.5 452 Otevřená Hunter Under Saddle All AgesJezdec (Kůň)PořadíBodyAdéla Hvozdenská (All The Diesel Needs)13Kateřina Brunová (Hotrods Magnum)22Nikola Bajnoková (Worthy Hollywood)31 453 Otevřená Hunt Seat Equitation All AgesJezdec (Kůň)PořadíBodyAdéla Hvozdenská (All The Diesel Needs)164 \nPropozice ke stažení : \nPropozice Kozlovice III \nPředběžný harmonogram \nHARMONOGRAM JE PŘEDBĚŽNÝ – DISCIPLÍNY A OPRACOVÁNÍ SE MOHOU MĚNIT NA ZÁKLADĚ POČTU ÚČASTNÍKŮ V JEDNOTLIVÝCH TŘÍDÁCH. \nPatterny Kozlovice III
URL:https://www.wrc.cz/event/smart-ranch-kozlovice-3/
LOCATION:Smart ranch – Kozlovice\, Kozlovice 928\, Kozlovice\, 73947\, Česká republika
ORGANIZER;CN="Paint%20Western%20Riding%20Club":MAILTO:shows.smartranch@gmail.com
END:VEVENT
END:VCALENDAR